BEGIN:VCALENDAR
VERSION:2.0
PRODID:-//Parkinson&#039;s In Motion - Parkinson&#039;s Support Group - ECPv6.15.20//NONSGML v1.0//EN
CALSCALE:GREGORIAN
METHOD:PUBLISH
X-ORIGINAL-URL:https://parkinsonsinmotion.org
X-WR-CALDESC:Events for Parkinson&#039;s In Motion - Parkinson&#039;s Support Group
REFRESH-INTERVAL;VALUE=DURATION:PT1H
X-Robots-Tag:noindex
X-PUBLISHED-TTL:PT1H
BEGIN:VTIMEZONE
TZID:America/Kentucky/Louisville
BEGIN:DAYLIGHT
TZOFFSETFROM:-0500
TZOFFSETTO:-0400
TZNAME:EDT
DTSTART:20230312T070000
END:DAYLIGHT
BEGIN:STANDARD
TZOFFSETFROM:-0400
TZOFFSETTO:-0500
TZNAME:EST
DTSTART:20231105T060000
END:STANDARD
BEGIN:DAYLIGHT
TZOFFSETFROM:-0500
TZOFFSETTO:-0400
TZNAME:EDT
DTSTART:20240310T070000
END:DAYLIGHT
BEGIN:STANDARD
TZOFFSETFROM:-0400
TZOFFSETTO:-0500
TZNAME:EST
DTSTART:20241103T060000
END:STANDARD
BEGIN:DAYLIGHT
TZOFFSETFROM:-0500
TZOFFSETTO:-0400
TZNAME:EDT
DTSTART:20250309T070000
END:DAYLIGHT
BEGIN:STANDARD
TZOFFSETFROM:-0400
TZOFFSETTO:-0500
TZNAME:EST
DTSTART:20251102T060000
END:STANDARD
END:VTIMEZONE
BEGIN:VEVENT
DTSTART;TZID=America/Kentucky/Louisville:20241031T103000
DTEND;TZID=America/Kentucky/Louisville:20241031T233000
DTSTAMP:20260423T110112
CREATED:20240930T192309Z
LAST-MODIFIED:20240930T192309Z
UID:1695-1730370600-1730417400@parkinsonsinmotion.org
SUMMARY:Clear Path Cognition Exercises
DESCRIPTION:
URL:https://parkinsonsinmotion.org/event/clear-path-cognition-exercises-5/
END:VEVENT
BEGIN:VEVENT
DTSTART;TZID=America/Kentucky/Louisville:20241028T140000
DTEND;TZID=America/Kentucky/Louisville:20241028T150000
DTSTAMP:20260423T110112
CREATED:20240930T192501Z
LAST-MODIFIED:20240930T192501Z
UID:1701-1730124000-1730127600@parkinsonsinmotion.org
SUMMARY:Chair Exercises with Power Moves
DESCRIPTION:
URL:https://parkinsonsinmotion.org/event/chair-exercises-with-power-moves-4/
END:VEVENT
BEGIN:VEVENT
DTSTART;TZID=America/Kentucky/Louisville:20241025T080000
DTEND;TZID=America/Kentucky/Louisville:20241025T090000
DTSTAMP:20260423T110112
CREATED:20240930T192930Z
LAST-MODIFIED:20240930T192930Z
UID:1720-1729843200-1729846800@parkinsonsinmotion.org
SUMMARY:High-Intensity Interval Training
DESCRIPTION:
URL:https://parkinsonsinmotion.org/event/high-intensity-interval-training-4/
END:VEVENT
BEGIN:VEVENT
DTSTART;TZID=America/Kentucky/Louisville:20241024T163000
DTEND;TZID=America/Kentucky/Louisville:20241024T173000
DTSTAMP:20260423T110112
CREATED:20240930T192723Z
LAST-MODIFIED:20240930T192723Z
UID:1709-1729787400-1729791000@parkinsonsinmotion.org
SUMMARY:Yoga Class
DESCRIPTION:
URL:https://parkinsonsinmotion.org/event/yoga-class-4/
END:VEVENT
BEGIN:VEVENT
DTSTART;TZID=America/Kentucky/Louisville:20241024T103000
DTEND;TZID=America/Kentucky/Louisville:20241024T233000
DTSTAMP:20260423T110112
CREATED:20240930T192235Z
LAST-MODIFIED:20240930T192235Z
UID:1693-1729765800-1729812600@parkinsonsinmotion.org
SUMMARY:Clear Path Cognition Exercises
DESCRIPTION:
URL:https://parkinsonsinmotion.org/event/clear-path-cognition-exercises-4/
END:VEVENT
BEGIN:VEVENT
DTSTART;TZID=America/Kentucky/Louisville:20241022T140000
DTEND;TZID=America/Kentucky/Louisville:20241022T150000
DTSTAMP:20260423T110112
CREATED:20240930T192549Z
LAST-MODIFIED:20241021T175503Z
UID:1703-1729605600-1729609200@parkinsonsinmotion.org
SUMMARY:Care Partner Exchange: The Impact of Parkinson's On Relationships
DESCRIPTION:Please join us for an afternoon of connection and sharing. Our Care Partner Exchange event is an opportunity to meet fellow caregivers\, share resources and ideas\, and to hear from insightful guests. Feel free to invite family or acquaintances who care for  individuals impacted by Parkinson’s Disease. This event will be hosted by Parkinson’s in Motion at 195 Commercial Drive\, Suite 104\, London\, KY 40744.
URL:https://parkinsonsinmotion.org/event/care-partner-exchange-the-impact-of-parkinsons-on-relationships/
ATTACH;FMTTYPE=image/jpeg:https://parkinsonsinmotion.org/wp-content/uploads/2024/09/Care-Partner-3.jpg
END:VEVENT
BEGIN:VEVENT
DTSTART;TZID=America/Kentucky/Louisville:20241021T140000
DTEND;TZID=America/Kentucky/Louisville:20241021T150000
DTSTAMP:20260423T110112
CREATED:20240930T192428Z
LAST-MODIFIED:20240930T192428Z
UID:1699-1729519200-1729522800@parkinsonsinmotion.org
SUMMARY:Chair Exercises with Power Moves
DESCRIPTION:
URL:https://parkinsonsinmotion.org/event/chair-exercises-with-power-moves-3/
END:VEVENT
BEGIN:VEVENT
DTSTART;TZID=America/Kentucky/Louisville:20241018T080000
DTEND;TZID=America/Kentucky/Louisville:20241018T090000
DTSTAMP:20260423T110112
CREATED:20240930T192916Z
LAST-MODIFIED:20240930T192916Z
UID:1717-1729238400-1729242000@parkinsonsinmotion.org
SUMMARY:High-Intensity Interval Training
DESCRIPTION:
URL:https://parkinsonsinmotion.org/event/high-intensity-interval-training-3/
END:VEVENT
BEGIN:VEVENT
DTSTART;TZID=America/Kentucky/Louisville:20241017T163000
DTEND;TZID=America/Kentucky/Louisville:20241017T173000
DTSTAMP:20260423T110112
CREATED:20240930T192650Z
LAST-MODIFIED:20240930T192650Z
UID:1707-1729182600-1729186200@parkinsonsinmotion.org
SUMMARY:Yoga Class
DESCRIPTION:
URL:https://parkinsonsinmotion.org/event/yoga-class-3/
END:VEVENT
BEGIN:VEVENT
DTSTART;TZID=America/Kentucky/Louisville:20241017T103000
DTEND;TZID=America/Kentucky/Louisville:20241017T233000
DTSTAMP:20260423T110112
CREATED:20240930T192212Z
LAST-MODIFIED:20240930T192212Z
UID:1691-1729161000-1729207800@parkinsonsinmotion.org
SUMMARY:Clear Path Cognition Exercises
DESCRIPTION:
URL:https://parkinsonsinmotion.org/event/clear-path-cognition-exercises-3/
END:VEVENT
BEGIN:VEVENT
DTSTART;TZID=America/Kentucky/Louisville:20241014T140000
DTEND;TZID=America/Kentucky/Louisville:20241014T150000
DTSTAMP:20260423T110112
CREATED:20240930T192400Z
LAST-MODIFIED:20240930T192400Z
UID:1697-1728914400-1728918000@parkinsonsinmotion.org
SUMMARY:Chair Exercises with Power Moves
DESCRIPTION:
URL:https://parkinsonsinmotion.org/event/chair-exercises-with-power-moves-2/
END:VEVENT
BEGIN:VEVENT
DTSTART;TZID=America/Kentucky/Louisville:20241011T080000
DTEND;TZID=America/Kentucky/Louisville:20241011T090000
DTSTAMP:20260423T110112
CREATED:20240930T192856Z
LAST-MODIFIED:20240930T192856Z
UID:1715-1728633600-1728637200@parkinsonsinmotion.org
SUMMARY:High-Intensity Interval Training
DESCRIPTION:
URL:https://parkinsonsinmotion.org/event/high-intensity-interval-training-2/
END:VEVENT
BEGIN:VEVENT
DTSTART;TZID=America/Kentucky/Louisville:20241010T163000
DTEND;TZID=America/Kentucky/Louisville:20241010T173000
DTSTAMP:20260423T110112
CREATED:20240930T192622Z
LAST-MODIFIED:20240930T192622Z
UID:1705-1728577800-1728581400@parkinsonsinmotion.org
SUMMARY:Yoga Class
DESCRIPTION:
URL:https://parkinsonsinmotion.org/event/yoga-class-2/
END:VEVENT
BEGIN:VEVENT
DTSTART;TZID=America/Kentucky/Louisville:20241010T103000
DTEND;TZID=America/Kentucky/Louisville:20241010T233000
DTSTAMP:20260423T110112
CREATED:20240930T192147Z
LAST-MODIFIED:20240930T192147Z
UID:1689-1728556200-1728603000@parkinsonsinmotion.org
SUMMARY:Clear Path Cognition Exercises
DESCRIPTION:
URL:https://parkinsonsinmotion.org/event/clear-path-cognition-exercises-2/
END:VEVENT
BEGIN:VEVENT
DTSTART;TZID=America/Kentucky/Louisville:20241007T140000
DTEND;TZID=America/Kentucky/Louisville:20241007T150000
DTSTAMP:20260423T110112
CREATED:20240930T192051Z
LAST-MODIFIED:20240930T192051Z
UID:1687-1728309600-1728313200@parkinsonsinmotion.org
SUMMARY:Chair Exercises with Power Moves
DESCRIPTION:
URL:https://parkinsonsinmotion.org/event/chair-exercises-with-power-moves/
END:VEVENT
BEGIN:VEVENT
DTSTART;TZID=America/Kentucky/Louisville:20241004T080000
DTEND;TZID=America/Kentucky/Louisville:20241004T090000
DTSTAMP:20260423T110112
CREATED:20240930T192826Z
LAST-MODIFIED:20240930T192826Z
UID:1713-1728028800-1728032400@parkinsonsinmotion.org
SUMMARY:High-Intensity Interval Training
DESCRIPTION:
URL:https://parkinsonsinmotion.org/event/high-intensity-interval-training/
END:VEVENT
BEGIN:VEVENT
DTSTART;TZID=America/Kentucky/Louisville:20241003T163000
DTEND;TZID=America/Kentucky/Louisville:20241003T173000
DTSTAMP:20260423T110112
CREATED:20240930T192005Z
LAST-MODIFIED:20240930T192005Z
UID:1685-1727973000-1727976600@parkinsonsinmotion.org
SUMMARY:Yoga Class
DESCRIPTION:
URL:https://parkinsonsinmotion.org/event/yoga-class/
END:VEVENT
BEGIN:VEVENT
DTSTART;TZID=America/Kentucky/Louisville:20241003T103000
DTEND;TZID=America/Kentucky/Louisville:20241003T233000
DTSTAMP:20260423T110112
CREATED:20240930T191710Z
LAST-MODIFIED:20240930T191710Z
UID:1683-1727951400-1727998200@parkinsonsinmotion.org
SUMMARY:Clear Path Cognition Exercises
DESCRIPTION:
URL:https://parkinsonsinmotion.org/event/clear-path-cognition-exercises/
END:VEVENT
BEGIN:VEVENT
DTSTART;TZID=America/Kentucky/Louisville:20241001T140000
DTEND;TZID=America/Kentucky/Louisville:20241001T150000
DTSTAMP:20260423T110112
CREATED:20240930T191605Z
LAST-MODIFIED:20240930T191605Z
UID:1681-1727791200-1727794800@parkinsonsinmotion.org
SUMMARY:Vocal Classes
DESCRIPTION:
URL:https://parkinsonsinmotion.org/event/vocal-classes/
END:VEVENT
BEGIN:VEVENT
DTSTART;TZID=America/Kentucky/Louisville:20240725T103000
DTEND;TZID=America/Kentucky/Louisville:20240725T113000
DTSTAMP:20260423T110112
CREATED:20240612T220856Z
LAST-MODIFIED:20240612T220856Z
UID:1644-1721903400-1721907000@parkinsonsinmotion.org
SUMMARY:ClearPath Cognitive Exercise Class with Don White
DESCRIPTION:Parkinson’s In Motion will host a Cognitive Exercise Class at our new location at 195 Commercial Drive\, Suite 104\, London\, Kentucky. We are never too old or too smart to learn new ideas. Many of you know Don White. For years\, he has shared a method he developed using perception to structure and exercise cognitive function. This training helps keep your brain clear and improves lost brain pathways. \n 
URL:https://parkinsonsinmotion.org/event/clearpath-cognitive-exercise-class-with-don-white-7/
LOCATION:Parkinson’s In Motion\, 195 Commercial Drive\, Suite 104\, London\, Kentucky\, 40744
ATTACH;FMTTYPE=image/png:https://parkinsonsinmotion.org/wp-content/uploads/2023/12/PIM-Cognitive-Exercise-Classes-12-08-23.png
ORGANIZER;CN="Jane Rice Williams":MAILTO:pim.eastky@gmail.com
END:VEVENT
BEGIN:VEVENT
DTSTART;TZID=America/Kentucky/Louisville:20240718T103000
DTEND;TZID=America/Kentucky/Louisville:20240718T113000
DTSTAMP:20260423T110112
CREATED:20240612T220843Z
LAST-MODIFIED:20240612T220843Z
UID:1642-1721298600-1721302200@parkinsonsinmotion.org
SUMMARY:ClearPath Cognitive Exercise Class with Don White
DESCRIPTION:Parkinson’s In Motion will host a Cognitive Exercise Class at our new location at 195 Commercial Drive\, Suite 104\, London\, Kentucky. We are never too old or too smart to learn new ideas. Many of you know Don White. For years\, he has shared a method he developed using perception to structure and exercise cognitive function. This training helps keep your brain clear and improves lost brain pathways. \n 
URL:https://parkinsonsinmotion.org/event/clearpath-cognitive-exercise-class-with-don-white-6/
LOCATION:Parkinson’s In Motion\, 195 Commercial Drive\, Suite 104\, London\, Kentucky\, 40744
ATTACH;FMTTYPE=image/png:https://parkinsonsinmotion.org/wp-content/uploads/2023/12/PIM-Cognitive-Exercise-Classes-12-08-23.png
ORGANIZER;CN="Jane Rice Williams":MAILTO:pim.eastky@gmail.com
END:VEVENT
BEGIN:VEVENT
DTSTART;TZID=America/Kentucky/Louisville:20240711T103000
DTEND;TZID=America/Kentucky/Louisville:20240711T113000
DTSTAMP:20260423T110112
CREATED:20240612T220829Z
LAST-MODIFIED:20240612T220829Z
UID:1640-1720693800-1720697400@parkinsonsinmotion.org
SUMMARY:ClearPath Cognitive Exercise Class with Don White
DESCRIPTION:Parkinson’s In Motion will host a Cognitive Exercise Class at our new location at 195 Commercial Drive\, Suite 104\, London\, Kentucky. We are never too old or too smart to learn new ideas. Many of you know Don White. For years\, he has shared a method he developed using perception to structure and exercise cognitive function. This training helps keep your brain clear and improves lost brain pathways. \n 
URL:https://parkinsonsinmotion.org/event/clearpath-cognitive-exercise-class-with-don-white-5/
LOCATION:Parkinson’s In Motion\, 195 Commercial Drive\, Suite 104\, London\, Kentucky\, 40744
ATTACH;FMTTYPE=image/png:https://parkinsonsinmotion.org/wp-content/uploads/2023/12/PIM-Cognitive-Exercise-Classes-12-08-23.png
ORGANIZER;CN="Jane Rice Williams":MAILTO:pim.eastky@gmail.com
END:VEVENT
BEGIN:VEVENT
DTSTART;TZID=America/Kentucky/Louisville:20240704T103000
DTEND;TZID=America/Kentucky/Louisville:20240704T113000
DTSTAMP:20260423T110112
CREATED:20240612T220811Z
LAST-MODIFIED:20240612T220811Z
UID:1638-1720089000-1720092600@parkinsonsinmotion.org
SUMMARY:ClearPath Cognitive Exercise Class with Don White
DESCRIPTION:Parkinson’s In Motion will host a Cognitive Exercise Class at our new location at 195 Commercial Drive\, Suite 104\, London\, Kentucky. We are never too old or too smart to learn new ideas. Many of you know Don White. For years\, he has shared a method he developed using perception to structure and exercise cognitive function. This training helps keep your brain clear and improves lost brain pathways. \n 
URL:https://parkinsonsinmotion.org/event/clearpath-cognitive-exercise-class-with-don-white-4/
LOCATION:Parkinson’s In Motion\, 195 Commercial Drive\, Suite 104\, London\, Kentucky\, 40744
ATTACH;FMTTYPE=image/png:https://parkinsonsinmotion.org/wp-content/uploads/2023/12/PIM-Cognitive-Exercise-Classes-12-08-23.png
ORGANIZER;CN="Jane Rice Williams":MAILTO:pim.eastky@gmail.com
END:VEVENT
BEGIN:VEVENT
DTSTART;TZID=America/Kentucky/Louisville:20240627T103000
DTEND;TZID=America/Kentucky/Louisville:20240627T113000
DTSTAMP:20260423T110112
CREATED:20240612T220754Z
LAST-MODIFIED:20240612T220754Z
UID:1636-1719484200-1719487800@parkinsonsinmotion.org
SUMMARY:ClearPath Cognitive Exercise Class with Don White
DESCRIPTION:Parkinson’s In Motion will host a Cognitive Exercise Class at our new location at 195 Commercial Drive\, Suite 104\, London\, Kentucky. We are never too old or too smart to learn new ideas. Many of you know Don White. For years\, he has shared a method he developed using perception to structure and exercise cognitive function. This training helps keep your brain clear and improves lost brain pathways. \n 
URL:https://parkinsonsinmotion.org/event/clearpath-cognitive-exercise-class-with-don-white-3/
LOCATION:Parkinson’s In Motion\, 195 Commercial Drive\, Suite 104\, London\, Kentucky\, 40744
ATTACH;FMTTYPE=image/png:https://parkinsonsinmotion.org/wp-content/uploads/2023/12/PIM-Cognitive-Exercise-Classes-12-08-23.png
ORGANIZER;CN="Jane Rice Williams":MAILTO:pim.eastky@gmail.com
END:VEVENT
BEGIN:VEVENT
DTSTART;TZID=America/Kentucky/Louisville:20240620T103000
DTEND;TZID=America/Kentucky/Louisville:20240620T113000
DTSTAMP:20260423T110112
CREATED:20240612T220740Z
LAST-MODIFIED:20240612T220740Z
UID:1634-1718879400-1718883000@parkinsonsinmotion.org
SUMMARY:ClearPath Cognitive Exercise Class with Don White
DESCRIPTION:Parkinson’s In Motion will host a Cognitive Exercise Class at our new location at 195 Commercial Drive\, Suite 104\, London\, Kentucky. We are never too old or too smart to learn new ideas. Many of you know Don White. For years\, he has shared a method he developed using perception to structure and exercise cognitive function. This training helps keep your brain clear and improves lost brain pathways. \n 
URL:https://parkinsonsinmotion.org/event/clearpath-cognitive-exercise-class-with-don-white-2/
LOCATION:Parkinson’s In Motion\, 195 Commercial Drive\, Suite 104\, London\, Kentucky\, 40744
ATTACH;FMTTYPE=image/png:https://parkinsonsinmotion.org/wp-content/uploads/2023/12/PIM-Cognitive-Exercise-Classes-12-08-23.png
ORGANIZER;CN="Jane Rice Williams":MAILTO:pim.eastky@gmail.com
END:VEVENT
BEGIN:VEVENT
DTSTART;TZID=America/Kentucky/Louisville:20240613T103000
DTEND;TZID=America/Kentucky/Louisville:20240613T113000
DTSTAMP:20260423T110112
CREATED:20240612T220241Z
LAST-MODIFIED:20240612T220537Z
UID:1632-1718274600-1718278200@parkinsonsinmotion.org
SUMMARY:ClearPath Cognitive Exercise Class with Don White
DESCRIPTION:Parkinson’s In Motion will host a Cognitive Exercise Class at our new location at 195 Commercial Drive\, Suite 104\, London\, Kentucky. We are never too old or too smart to learn new ideas. Many of you know Don White. For years\, he has shared a method he developed using perception to structure and exercise cognitive function. This training helps keep your brain clear and improves lost brain pathways. \n 
URL:https://parkinsonsinmotion.org/event/clearpath-cognitive-exercise-class-with-don-white/
LOCATION:Parkinson’s In Motion\, 195 Commercial Drive\, Suite 104\, London\, Kentucky\, 40744
ATTACH;FMTTYPE=image/png:https://parkinsonsinmotion.org/wp-content/uploads/2023/12/PIM-Cognitive-Exercise-Classes-12-08-23.png
ORGANIZER;CN="Jane Rice Williams":MAILTO:pim.eastky@gmail.com
END:VEVENT
BEGIN:VEVENT
DTSTART;TZID=America/Kentucky/Louisville:20240430T110000
DTEND;TZID=America/Kentucky/Louisville:20240430T120000
DTSTAMP:20260423T110112
CREATED:20240226T192216Z
LAST-MODIFIED:20240226T192412Z
UID:1536-1714474800-1714478400@parkinsonsinmotion.org
SUMMARY:Program Featuring Dr. Craig van Horne
DESCRIPTION:Dr. Craig van Horne\, MD\, PhD from the University of Kentucky will be the presenter at our program. This event is sponsored by Boston Scientific. Lunch will follow the program. \nDr. Craig van Horne is a nationally and internationally recognized expert in neurosurgery who specializes in the diagnosis and treatment of movement disorders. His research focuses on innovative surgical treatment strategies for Parkinson’s disease. Since his days as an undergraduate\, van Horne has been interested in neuro-regeneration and the treatment of Parkinson’s disease. While working on his bachelor’s degree in biology at Williams College in Massachusetts\, he completed an honors thesis in neurobiology\, transplanting peripheral nerve tissue to the central nervous system in goldfish. During his MD-PhD studies at the University of Colorado\, van Horne expanded his work on neuro-transplantation for his doctoral thesis\, focusing on an animal model of Parkinson’s disease. Van Horne completed his residency in neurosurgery at Brigham and Women’s Hospital in Boston\, where he later served on the neurosurgery faculty. After 20 years in Boston\, he moved to Kentucky to join UK HealthCare\, where he practices as a neurosurgeon and serves as co-director of the Brain Restoration Center (BRC)\, part of the Kentucky Neuroscience Institute. As a leader of the BRC\, van Horne collaborates with a multidisciplinary team that is helping patients find relief from movement disorder symptoms while also pursuing innovative treatments in the fight against Parkinson’s. Van Horne is the Virginia T. Barrow Endowed Chair at UK and a professor of neurosurgery in the UK College of Medicine. He is currently leading a first-of-its-kind clinical study on “DBS+\,” a novel approach to Parkinson’s treatment that involves transplanting peripheral nerve tissue into the brain during deep brain stimulation (DBS) surgery. \nDr. van Horne is a Professor in the Department of Neurosurgery at the University of Kentucky. He graduated from the University of Colorado School of Medicine with an MD as well as a PhD in treatment strategies for Parkinson’s disease. He completed his residency training in Neurosurgery at Brigham and Women’s Hospital in Boston\, Massachusetts. Dr. van Horne is Board Certified by the American Board of Neurological Surgery and is nationally and internationally recognized as an expert in Neurosurgery. Dr. van Horne has extensive experience in the diagnosis and treatment of movement disorders. He specialized in Deep Brain Stimulation for Parkinson’s disease and other movement disorders. His current research focuses on innovative and novel surgical treatment strategies for Parkinson’s disease. Faculty Rank Professor of Neurosurgery Degree University of Colorado School of Medicine\, Aurora Residency Brigham and Women’s Hospital\, Harvard Medical School\, Boston Certifications and Special Training American Board of Neurological Surgery
URL:https://parkinsonsinmotion.org/event/program-featuring-dr-craig-van-horne/
ATTACH;FMTTYPE=image/png:https://parkinsonsinmotion.org/wp-content/uploads/2024/02/PIM-Monthly-Program-02-26-24-2.png
END:VEVENT
BEGIN:VEVENT
DTSTART;TZID=America/Kentucky/Louisville:20240427T080000
DTEND;TZID=America/Kentucky/Louisville:20240427T100000
DTSTAMP:20260423T110112
CREATED:20230501T155227Z
LAST-MODIFIED:20240329T162745Z
UID:1337-1714204800-1714212000@parkinsonsinmotion.org
SUMMARY:Parkinson's In Motion 5K Run / Walk For All
DESCRIPTION:Please make plans to join us for our 2nd Annual 5K Run / Walk For All on April 27\, 2024!\nThe Parkinson’s In Motion 5K Run/Walk for All will begin at the London-Laurel Farmer’s Market Pavilion in downtown London\, Kentucky. It will be primarily a flat course. All runner’s and walkers of all capabilities are welcome to participate. \nParkinson’s In Motion is a 501(c)(3) nonprofit organization based in London\, Kentucky aimed at providing support and resources to those impacted by Parkinson’s Disease in Eastern Kentucky & the Appalachian region. Our passion is to reach\, inform\, and connect individuals touched by Parkinson’s Disease with tools and resources for self-help and improvement to enhance quality of life. We strive to provide a support network for families and advocates. \nRegister now at https://runsignup.com/Race/KY/London/ParkinsonsInMotion5KRunWalkforAll/ \nJoin The Team Challenge!\nAre you ready to accept the Parkinson’s In Motion 5K Team Challenge? Grab 5 or more people to create a team (you’ll even get a 20% discount) with a chance to compete in four team categories: Most Creative Team Name\, Best Team Costume Theme\, Most Individuals On A Team\, and Fastest Team Finishing Time. Learn more at https://runsignup.com/RaceGroups/139825. \nBecome A Sponsor!\nPlatinum Sponsor ($1000)\nIncludes corporate name LARGE on t-shirts\, recognition on PIM website and social media\, and option to host a table at the day of the event. \nGold Sponsor ($500)\nIncludes corporate name MEDIUM on t-shirts\, recognition on PIM website and social media\, and option to host a table at the day of the event. \nSilver Sponsor ($250)\nIncludes corporate name SMALL on t-shirts\, recognition on PIM website and social media\, and option to host a table at the day of the event. \nBronze Sponsor ($100)\nIncludes corporate name SMALL on all t-shirts and recognition on PIM website and social media. \nSurprise Us!\nAny level of contribution is greatly appreciated! \nDownload the sponsorship form!
URL:https://parkinsonsinmotion.org/event/parkinsons-in-motion-5k-run-walk-for-all-2024/
LOCATION:London – Laurel Farmer’s Market\, 100 W Dixie Street\, London\, KY\, 40741\, United States
ATTACH;FMTTYPE=image/jpeg:https://parkinsonsinmotion.org/wp-content/uploads/2023/09/PIM-5K-Registration-Flyer-2024-v2-Price-Increase-09-25-23-01-scaled.jpg
ORGANIZER;CN="Jane Rice Williams":MAILTO:pim.eastky@gmail.com
END:VEVENT
BEGIN:VEVENT
DTSTART;TZID=America/Kentucky/Louisville:20240307T170000
DTEND;TZID=America/Kentucky/Louisville:20240307T170000
DTSTAMP:20260423T110112
CREATED:20240226T190133Z
LAST-MODIFIED:20240226T190133Z
UID:1532-1709830800-1709830800@parkinsonsinmotion.org
SUMMARY:Care Partner Exchange
DESCRIPTION:When one person has PD\, the entire household is affected. Debbie Gilbert will lead this session of discussion\, guidance\, and comfort. PD Patients are invited as well for separate discussion.
URL:https://parkinsonsinmotion.org/event/care-partner-exchange-03-07-24/
LOCATION:Parkinson’s In Motion\, 195 Commercial Drive\, Suite 104\, London\, Kentucky\, 40744
ATTACH;FMTTYPE=image/png:https://parkinsonsinmotion.org/wp-content/uploads/2023/12/PIM-Care-Partner-Exchange-12-08-23.png
ORGANIZER;CN="Jane Rice Williams":MAILTO:pim.eastky@gmail.com
END:VEVENT
BEGIN:VEVENT
DTSTART;TZID=America/Kentucky/Louisville:20240304T133000
DTEND;TZID=America/Kentucky/Louisville:20240304T143000
DTSTAMP:20260423T110112
CREATED:20240226T185904Z
LAST-MODIFIED:20240226T185904Z
UID:1526-1709559000-1709562600@parkinsonsinmotion.org
SUMMARY:PWR! Chair Exercise Class
DESCRIPTION:PWR! offers different levels according to your physical aptitude – for now though\, we are starting with chair. You’ll be surprised how much of a workout is possible from a seated position! We’re starting with that and will add more as the need arises.
URL:https://parkinsonsinmotion.org/event/chair-exercise-class-03-24-24/
LOCATION:Parkinson’s In Motion\, 195 Commercial Drive\, Suite 104\, London\, Kentucky\, 40744
ATTACH;FMTTYPE=image/png:https://parkinsonsinmotion.org/wp-content/uploads/2024/02/PIM-PWR-Chair-Exercise-Classes-02-26-24.png
ORGANIZER;CN="Jane Rice Williams":MAILTO:pim.eastky@gmail.com
END:VEVENT
END:VCALENDAR